BEGIN:VCALENDAR
VERSION:2.0
PRODID:gruene-schaumburg.de
METHOD:PUBLISH
BEGIN:VTIMEZONE
TZID:Europe/Berlin
X-LIC-LOCATION:Europe/Berlin
BEGIN:DAYLIGHT
TZOFFSETFROM:+0100
TZOFFSETTO:+0200
TZNAME:CEST
DTSTART:19700329T020000
RRULE:FREQ=YEARLY;INTERVAL=1;BYDAY=-1SU;BYMONTH=3
END:DAYLIGHT
BEGIN:STANDARD
TZOFFSETFROM:+0200
TZOFFSETTO:+0100
TZNAME:CET
DTSTART:19701025T030000
RRULE:FREQ=YEARLY;INTERVAL=1;BYDAY=-1SU;BYMONTH=10
END:STANDARD
END:VTIMEZONE
BEGIN:VEVENT
UID:eae975bb19448f5dee562f2208b50ac1@gruene-schaumburg.de
URL;VALUE=URI:https://gruene-schaumburg.de/termine/gruenes-treffen-ov-sta
 dthagen-3/
LOCATION:
SUMMARY:Grünes Treffen OV Stadthagen
DESCRIPTION;ALTREP="data:text/html,%3Ch1%3EEinladung%20zum%20Treffen%3C%2
 Fh1%3E%0D%0A%3Ch1%3Eder%20Gr%C3%BCnen%20Stadthagen%3C%2Fh1%3E%0D%0A%26nbs
 p%3B%0D%0A%3Ch3%3EDienstag%20den%201.10.2019%3C%2Fh3%3E%0D%0A%3Ch3%3Eum%2
 019%3A30%20Uhr%3C%2Fh3%3E%0D%0A%3Ch3%3Ein%20der%20Gesch%C3%A4ftsstelle%3C
 %2Fh3%3E%0D%0A%3Ch3%3EGartenstrasse%202%3C%2Fh3%3E%0D%0A%3Ch3%3E31655%20S
 tadthagen%3C%2Fh3%3E":Einladung zum Treffen\n\nder Grünen Stadthagen\n\n
  \n\nDienstag den 1.10.2019\n\num 19:30 Uhr\n\nin der Geschäftsstelle\n
 \nGartenstrasse 2\n\n31655 Stadthagen
CLASS:PUBLIC
DTSTART;TZID=Europe/Berlin:20191001T193000
DTEND;TZID=Europe/Berlin:20191001T203000
DTSTAMP:20260422T095901
END:VEVENT
END:VCALENDAR