BEGIN:VCALENDAR
VERSION:2.0
PRODID:gruene-schaumburg.de
METHOD:PUBLISH
BEGIN:VTIMEZONE
TZID:Europe/Berlin
X-LIC-LOCATION:Europe/Berlin
BEGIN:DAYLIGHT
TZOFFSETFROM:+0100
TZOFFSETTO:+0200
TZNAME:CEST
DTSTART:19700329T020000
RRULE:FREQ=YEARLY;INTERVAL=1;BYDAY=-1SU;BYMONTH=3
END:DAYLIGHT
BEGIN:STANDARD
TZOFFSETFROM:+0200
TZOFFSETTO:+0100
TZNAME:CET
DTSTART:19701025T030000
RRULE:FREQ=YEARLY;INTERVAL=1;BYDAY=-1SU;BYMONTH=10
END:STANDARD
END:VTIMEZONE
BEGIN:VEVENT
UID:83369106a4171cadb6702b49d5640ef2@gruene-schaumburg.de
URL;VALUE=URI:https://gruene-schaumburg.de/termine/bildvortrag-fahrrad-fr
 iedensfahrt-nach-wolgograd-ehemals-stalingrad-3/
LOCATION:Ev. Gemeindezentrum Rote Schule (Kirchplatz 3), Obernkirchen
SUMMARY:Bildvortrag: Fahrrad-Friedensfahrt nach Wolgograd (ehemals Stalin
 grad)
DESCRIPTION;ALTREP="data:text/html,Willi%20Abel%20berichtet%20von%20seine
 r%20Fahrrad-Friedenstour%20von%20Obernkirchen%20nach%20Wolgograd%20%28ehe
 mals%20Stalingrad%29.%20Dort%20nahm%20er%202016%20an%20der%20Einweihung%2
 0der%20Friedenskapelle%20teil%2C%20die%20zwischen%20dem%20sowjetischen%20
 und%20dem%20deutschen%20Kriegsgr%C3%A4berfeld%20errichtet%20wurde.%0D%0A%
 0D%0AIn%20seinem%20Bildvortrag%20schildert%20Willi%20Abel%20den%204500%20
 km%20langen%20Weg%2C%20den%20er%20mit%20dem%20Fahrrad%20zur%C3%BCcklegte%
 3A%20Wien%2C%20Auschwitz%20und%20Krakau%2C%20Warschau%2C%20der%20Berg%20d
 er%20Kreuze%20in%20Litauen%2C%20St.%20Petersburg%20und%20Nowgorod%20sind%
 20nur%20einige%20der%20zahlreichen%20Orte%2C%20bevor%20er%20%C3%BCber%20M
 oskau%20nach%20Wolgograd%20gelangte.%20Willi%20Abel%20beschreibt%20seine%
 20weite%20Reise%20als%20beschwerlich%20aber%20sch%C3%B6n.%0D%0A%0D%0ASein
 %20Fazit%3A%20%E2%80%9EDie%20allermeiste%20Zeit%20war%20ich%20guter%20Sti
 mmung%20und%20von%20gro%C3%9Fer%20Freude%20und%20Dankbarkeit%20erf%C3%BCl
 lt.%20Ich%20hatte%20genug%20Kraft%20f%C3%BCr%20die%20lange%20Strecke.%20G
 ute%20Begegnungen%20an%20unz%C3%A4hligen%20wunderbaren%20Orten%20sind%20m
 ir%20widerfahren.%20Eine%20erf%C3%BCllte%20und%20gesegnete%20Zeit.%E2%80%
 9C%0D%0A%0D%0ADer%20Vortrag%20findet%20in%20Zusammenarbeit%20mit%20der%20
 Klimafastenaktion%20in%20Obernkirchen%20statt.":Willi Abel berichtet von 
 seiner Fahrrad-Friedenstour von Obernkirchen nach Wolgograd (ehemals Stal
 ingrad). Dort nahm er 2016 an der Einweihung der Friedenskapelle teil\, d
 ie zwischen dem sowjetischen und dem deutschen Kriegsgräberfeld errichte
 t wurde.\n\nIn seinem Bildvortrag schildert Willi Abel den 4500 km langen
  Weg\, den er mit dem Fahrrad zurücklegte: Wien\, Auschwitz und Krakau\,
  Warschau\, der Berg der Kreuze in Litauen\, St. Petersburg und Nowgorod 
 sind nur einige der zahlreichen Orte\, bevor er über Moskau nach Wolgogr
 ad gelangte. Willi Abel beschreibt seine weite Reise als beschwerlich abe
 r schön.\n\nSein Fazit: „Die allermeiste Zeit war ich guter Stimmung u
 nd von großer Freude und Dankbarkeit erfüllt. Ich hatte genug Kraft fü
 r die lange Strecke. Gute Begegnungen an unzähligen wunderbaren Orten si
 nd mir widerfahren. Eine erfüllte und gesegnete Zeit.“\n\nDer Vortrag 
 findet in Zusammenarbeit mit der Klimafastenaktion in Obernkirchen statt.
CLASS:PUBLIC
DTSTART;TZID=Europe/Berlin:20230330T190000
DTEND;TZID=Europe/Berlin:20230330T210000
DTSTAMP:20260421T095601
END:VEVENT
END:VCALENDAR